BEGIN:VCALENDAR
VERSION:2.0
CALSCALE:GREGORIAN
PRODID:adamgibbons/ics
METHOD:PUBLISH
X-PUBLISHED-TTL:PT1H
BEGIN:VEVENT
UID:207@calndr.de
SUMMARY:OpenChaos
DTSTAMP:20260422T012415Z
DTSTART:20260422T170000Z
DTEND:20260422T215500Z
URL:https://calndr.de/event/openchaos-60
LOCATION:C3PB - Westernmauer 12-16\, 33098 Paderborn
STATUS:CONFIRMED
CATEGORIES:open source,ccc,paderborn
END:VEVENT
BEGIN:VEVENT
UID:206@calndr.de
SUMMARY:Sonoj Köln
DTSTAMP:20260422T012415Z
DTSTART:20260520T170000Z
DTEND:20260520T190000Z
URL:https://calndr.de/event/sonoj-koln-4
GEO:50.95048415;6.912837429418536
LOCATION:CCC Köln - CCC Köln\, Heliosstr. 6a
STATUS:CONFIRMED
CATEGORIES:Community,Musik,audio,open source,foss,köln
END:VEVENT
END:VCALENDAR
